BEGIN:VCALENDAR
VERSION:2.0
PRODID:-//Metabolomics Society - ECPv6.15.20//NONSGML v1.0//EN
CALSCALE:GREGORIAN
METHOD:PUBLISH
X-WR-CALNAME:Metabolomics Society
X-ORIGINAL-URL:https://metabolomicssociety.org
X-WR-CALDESC:Events for Metabolomics Society
REFRESH-INTERVAL;VALUE=DURATION:PT1H
X-Robots-Tag:noindex
X-PUBLISHED-TTL:PT1H
BEGIN:VTIMEZONE
TZID:UTC
BEGIN:STANDARD
TZOFFSETFROM:+0000
TZOFFSETTO:+0000
TZNAME:UTC
DTSTART:20250101T000000
END:STANDARD
END:VTIMEZONE
BEGIN:VEVENT
DTSTART;VALUE=DATE:20260127
DTEND;VALUE=DATE:20260129
DTSTAMP:20260423T112338
CREATED:20250926T200347Z
LAST-MODIFIED:20250926T200347Z
UID:7337-1769472000-1769644799@metabolomicssociety.org
SUMMARY:Metabolomics in Life Science 2026
DESCRIPTION:Umeå University warmly invites participants to explore the latest NMR- and MS-based metabolomics research from Sweden\, the Nordics\, and beyond. The conference will cover topics such as clinical and precision medicine\, plant metabolomics\, spatial and single-cell metabolomics\, multi-omics\, and computational/AI applications. \nThe program features six keynote speakers from leading institutions and an industry exhibition showcasing cutting-edge technologies and services in metabolomics research. \nRegistration is now open! Learn more and register here: https://metabolomics2026.se/
URL:https://metabolomicssociety.org/event/metabolomics-in-life-science-2026/
LOCATION:Vävenscenen\, Umeå\, Sweden\, Vävenscenen Storgatan 46 A\, Umeå\, 903 26\, Sweden
END:VEVENT
END:VCALENDAR