BEGIN:VCALENDAR
VERSION:2.0
PRODID:-//Metabolomics Society - ECPv6.15.20//NONSGML v1.0//EN
CALSCALE:GREGORIAN
METHOD:PUBLISH
X-WR-CALNAME:Metabolomics Society
X-ORIGINAL-URL:https://metabolomicssociety.org
X-WR-CALDESC:Events for Metabolomics Society
REFRESH-INTERVAL;VALUE=DURATION:PT1H
X-Robots-Tag:noindex
X-PUBLISHED-TTL:PT1H
BEGIN:VTIMEZONE
TZID:UTC
BEGIN:STANDARD
TZOFFSETFROM:+0000
TZOFFSETTO:+0000
TZNAME:UTC
DTSTART:20240101T000000
END:STANDARD
END:VTIMEZONE
BEGIN:VEVENT
DTSTART;VALUE=DATE:20251103
DTEND;VALUE=DATE:20251106
DTSTAMP:20260420T202921
CREATED:20250919T180142Z
LAST-MODIFIED:20250919T180454Z
UID:7335-1762128000-1762387199@metabolomicssociety.org
SUMMARY:Introduction to Applying LC-MS in Untargeted Metabolomics
DESCRIPTION:The course introduces attendees to the metabolomics workflow and applying LC-MS in metabolomics. It is designed to develop knowledge\, skills and experience in small group session with hands-on experience in sample preparation\, LC-MS data acquisition (MS and MS/MS)\, data analysis and metabolite annotation and identification. The course is aimed at individuals with minimal knowledge of LC-MS based metabolomics and only a small number of attendees are accepted on each course to maximise opportunities for laboratory experience and interaction with instructors. \nWebsite link: https://www.liverpool.ac.uk/research/facilities/shared-research-facilities/centre-for-metabolomics-research/liverpool-training-centre-for-metabolomics/lc-mscourse/
URL:https://metabolomicssociety.org/event/introduction-to-applying-lc-ms-in-untargeted-metabolomics/
LOCATION:University of Liverpool – Biosciences Building\, Biosciences Building - University of Liverpool\, Liverpool\, Merseyside\, L69 7BE\, United Kingdom
END:VEVENT
END:VCALENDAR