BEGIN:VCALENDAR
VERSION:2.0
PRODID:-//Metabolomics Society - ECPv6.15.20//NONSGML v1.0//EN
CALSCALE:GREGORIAN
METHOD:PUBLISH
X-WR-CALNAME:Metabolomics Society
X-ORIGINAL-URL:https://metabolomicssociety.org
X-WR-CALDESC:Events for Metabolomics Society
REFRESH-INTERVAL;VALUE=DURATION:PT1H
X-Robots-Tag:noindex
X-PUBLISHED-TTL:PT1H
BEGIN:VTIMEZONE
TZID:UTC
BEGIN:STANDARD
TZOFFSETFROM:+0000
TZOFFSETTO:+0000
TZNAME:UTC
DTSTART:20240101T000000
END:STANDARD
END:VTIMEZONE
BEGIN:VEVENT
DTSTART;VALUE=DATE:20251215
DTEND;VALUE=DATE:20251216
DTSTAMP:20260421T010016
CREATED:20251203T221144Z
LAST-MODIFIED:20251203T221232Z
UID:7402-1765756800-1765843199@metabolomicssociety.org
SUMMARY:EMN Webinar
DESCRIPTION:Coming up December 15 at 14:00 UTC\, 9:00 EDT\, 15:00 CET\, 8:00 CST \nBridging Research and Industry with Precision Lipidomics \nSpeaker: Marcos Y. Yoshinaga  (Universidade Cruzeiro do Sul\, Founder of PinguisLab) \nIn this webinar\, Marcos will share personal experiences\, lessons learned\, and strategies for turning complex lipidomics data into actionable insights that drive both scientific discovery and real-world innovation. For over two decades\, Marcos has worked hands-on with mass spectrometry data\, analyzing lipids across diverse biological samples. Today\, Marcos consults for academic teams and mentor students while fostering partnerships with industry clients in food\, cosmetics\, and biotech. \nDr. Marcos Yukio Yoshinaga is a scientist passionate about lipid analysis by mass spectrometry and its power to drive discovery research. Mass spectrometry remains the most comprehensive tool for studying lipids\, yet—unlike proteins or DNA—lipids have no universal code. This makes lipid biomarker discovery uniquely challenging for computational and software-driven approaches. \nClick here to learn more about this latest webinar by Marcos Y. Yoshinaga. \nPlease register for\, “Bridging Research and Industry with Precision Lipidomics\,” to be held on December 15 at 14:00 UTC\, 9:00 EDT\, 15:00 CET\, 8:00 CST at: https://zoom.us/meeting/register/xsQ3NZQcSV6CzaefM5tGtg \nAfter registering\, you will receive a confirmation email with information about joining the webinar. \nBrought to you by the EMN of the Metabolomics Society.
URL:https://metabolomicssociety.org/event/emn-webinar/
LOCATION:Online: Zoom\, Online
END:VEVENT
END:VCALENDAR