BEGIN:VCALENDAR
VERSION:2.0
PRODID:-//Metabolomics Society - ECPv6.15.20//NONSGML v1.0//EN
CALSCALE:GREGORIAN
METHOD:PUBLISH
X-WR-CALNAME:Metabolomics Society
X-ORIGINAL-URL:https://metabolomicssociety.org
X-WR-CALDESC:Events for Metabolomics Society
REFRESH-INTERVAL;VALUE=DURATION:PT1H
X-Robots-Tag:noindex
X-PUBLISHED-TTL:PT1H
BEGIN:VTIMEZONE
TZID:UTC
BEGIN:STANDARD
TZOFFSETFROM:+0000
TZOFFSETTO:+0000
TZNAME:UTC
DTSTART:20240101T000000
END:STANDARD
END:VTIMEZONE
BEGIN:VEVENT
DTSTART;VALUE=DATE:20251208
DTEND;VALUE=DATE:20251212
DTSTAMP:20260421T010028
CREATED:20250801T104108Z
LAST-MODIFIED:20250801T104108Z
UID:7253-1765152000-1765497599@metabolomicssociety.org
SUMMARY:EBRAINS Summit 2025
DESCRIPTION:The EBRAINS Summit 2025 takes place from 8-11 December in Brussels. The Summit will feature a rich programme including scientific talks with leading experts\, a public day\, a science slam\, poster sessions\, and a science market exhibition — all focused on advancing digital neuroscience. \nRegister before the early bird deadline on 20 July to benefit from a reduced registration fee. \nResearchers are also invited to submit abstracts for the poster sessions and live demonstrations\, with the chance for selected presenters to win one of two Best Abstract Awards and deliver a plenary talk during the Summit. \nExhibitors will have the opportunity to showcase their work and engage with Europe’s neuroscience and brain tech community. \nStay tuned on the Summit website for updates on the programme\, speaker lineup and sponsorship opportunities! This year’s programme includes a special joint day with the International Neuroinformatics Coordinating Facility (INCF). \nThere are flexible ticket options for every kind of participant\, from students and early-career researchers to professionals and institutional partners. Members of the EBRAINS network benefit from discounted rates and access to the EBRAINS network day/internal day.
URL:https://metabolomicssociety.org/event/ebrains-summit-2025/
LOCATION:The EGG – Brussels\, Belgium\, Rue Bara 175\, Bruxelles\, Brussels-Capital\, 1070\, Belgium
END:VEVENT
END:VCALENDAR