BEGIN:VCALENDAR
VERSION:2.0
PRODID:-//Metabolomics Society - ECPv6.15.20//NONSGML v1.0//EN
CALSCALE:GREGORIAN
METHOD:PUBLISH
X-WR-CALNAME:Metabolomics Society
X-ORIGINAL-URL:https://metabolomicssociety.org
X-WR-CALDESC:Events for Metabolomics Society
REFRESH-INTERVAL;VALUE=DURATION:PT1H
X-Robots-Tag:noindex
X-PUBLISHED-TTL:PT1H
BEGIN:VTIMEZONE
TZID:UTC
BEGIN:STANDARD
TZOFFSETFROM:+0000
TZOFFSETTO:+0000
TZNAME:UTC
DTSTART:20220101T000000
END:STANDARD
END:VTIMEZONE
BEGIN:VEVENT
DTSTART;TZID=UTC:20230908T000000
DTEND;TZID=UTC:20230909T235959
DTSTAMP:20260424T121006
CREATED:20231115T165343Z
LAST-MODIFIED:20231115T165343Z
UID:5415-1694131200-1694303999@metabolomicssociety.org
SUMMARY:2023 World Pediatrics Conference (Hybrid)
DESCRIPTION:2023 World Pediatrics Conference (2023WPC) focused on the latest advancements and innovations in different fields of Pediatrics research. 2023WPC is a premiere educational Pediatrics Congress in the field of Child Care and Neonatology that rotated between continents and were organized in collaboration with few national and international pediatric societies and associations. This International Pediatrics Congress 2023WPC was held in Singapore during September 08-09\, 2023 around the theme ‘Scientific advancement and exploration in Pediatrics and Neonatology’’ which enabled the professionals from worldwide to exchange their views on a wide variety of topics affecting childcare and those suffering from pediatric diseases around the world. Since Genetic variance\, developmental issues and Congenital defects are of a greater concern to pediatricians\, we explored more into these fields. For more conference and registration details\, click here.
URL:https://metabolomicssociety.org/event/2023-world-pediatrics-conference-hybrid/
LOCATION:Singapore / Hybrid Online\, Hybrid Online\, Singapore\, Singapore
END:VEVENT
END:VCALENDAR