BEGIN:VCALENDAR
VERSION:2.0
PRODID:-//Metabolomics Society - ECPv6.15.20//NONSGML v1.0//EN
CALSCALE:GREGORIAN
METHOD:PUBLISH
X-ORIGINAL-URL:https://metabolomicssociety.org
X-WR-CALDESC:Events for Metabolomics Society
REFRESH-INTERVAL;VALUE=DURATION:PT1H
X-Robots-Tag:noindex
X-PUBLISHED-TTL:PT1H
BEGIN:VTIMEZONE
TZID:UTC
BEGIN:STANDARD
TZOFFSETFROM:+0000
TZOFFSETTO:+0000
TZNAME:UTC
DTSTART:20250101T000000
END:STANDARD
END:VTIMEZONE
BEGIN:VEVENT
DTSTART;VALUE=DATE:20260621
DTEND;VALUE=DATE:20260625
DTSTAMP:20260421T081016
CREATED:20260115T215842Z
LAST-MODIFIED:20260115T215842Z
UID:7564-1782000000-1782345599@metabolomicssociety.org
SUMMARY:Metabolomics 2026
DESCRIPTION:You’re invited to the 22nd International Conference of the Metabolomics Society\, Metabolomics 2026. Buenos Aires\, Argentina is excited to welcome you! This is the first time the conference will be held in South America. Follow along at http://www.metabolomics2026.org.
URL:https://metabolomicssociety.org/event/metabolomics-2026/
LOCATION:Buenos Aires Convention Center\, Argentina\, Av. Figueroa Alcorta 2099\, Buenos Aires\, Buenos Aires\, C1112\, Argentina
CATEGORIES:Metabolomics Society Events
ATTACH;FMTTYPE=image/png:https://metabolomicssociety.org/wp-content/uploads/2026/01/Met26-LOGO-Stacked_1_RGB-Square.png
END:VEVENT
END:VCALENDAR